BEGIN:VCALENDAR
VERSION:2.0
PRODID:-//Alexander&#039;s Battalion - ECPv6.15.20//NONSGML v1.0//EN
CALSCALE:GREGORIAN
METHOD:PUBLISH
X-WR-CALNAME:Alexander&#039;s Battalion
X-ORIGINAL-URL:https://alexandersbattalion.com
X-WR-CALDESC:Events for Alexander&#039;s Battalion
REFRESH-INTERVAL;VALUE=DURATION:PT1H
X-Robots-Tag:noindex
X-PUBLISHED-TTL:PT1H
BEGIN:VTIMEZONE
TZID:America/New_York
BEGIN:DAYLIGHT
TZOFFSETFROM:-0500
TZOFFSETTO:-0400
TZNAME:EDT
DTSTART:20250309T070000
END:DAYLIGHT
BEGIN:STANDARD
TZOFFSETFROM:-0400
TZOFFSETTO:-0500
TZNAME:EST
DTSTART:20251102T060000
END:STANDARD
BEGIN:DAYLIGHT
TZOFFSETFROM:-0500
TZOFFSETTO:-0400
TZNAME:EDT
DTSTART:20260308T070000
END:DAYLIGHT
BEGIN:STANDARD
TZOFFSETFROM:-0400
TZOFFSETTO:-0500
TZNAME:EST
DTSTART:20261101T060000
END:STANDARD
BEGIN:DAYLIGHT
TZOFFSETFROM:-0500
TZOFFSETTO:-0400
TZNAME:EDT
DTSTART:20270314T070000
END:DAYLIGHT
BEGIN:STANDARD
TZOFFSETFROM:-0400
TZOFFSETTO:-0500
TZNAME:EST
DTSTART:20271107T060000
END:STANDARD
END:VTIMEZONE
BEGIN:VEVENT
DTSTART;TZID=America/New_York:20260717T000000
DTEND;TZID=America/New_York:20260719T235959
DTSTAMP:20260422T192046
CREATED:20260211T145629Z
LAST-MODIFIED:20260211T154027Z
UID:1196-1784246400-1784505599@alexandersbattalion.com
SUMMARY:Battle of Funkstown
DESCRIPTION:
URL:https://alexandersbattalion.com/event/battle-of-funkstown/
LOCATION:Funkstown\, 2 South Westside Ave.\, Funkstown\, MD\, 21734\, United States
END:VEVENT
BEGIN:VEVENT
DTSTART;TZID=America/New_York:20260703T000000
DTEND;TZID=America/New_York:20260705T235959
DTSTAMP:20260422T192046
CREATED:20260211T145017Z
LAST-MODIFIED:20260211T153836Z
UID:1193-1783036800-1783295999@alexandersbattalion.com
SUMMARY:Battle of Gettysburg @ Daniel Lady Farm
DESCRIPTION:
URL:https://alexandersbattalion.com/event/battle-of-gettysburg-daniel-lady-farm/
LOCATION:Daniel Lady Farm\, 1008 Hanover Rd.\, Gettysburg\, PA\, 17325\, United States
END:VEVENT
BEGIN:VEVENT
DTSTART;TZID=America/New_York:20260606T000000
DTEND;TZID=America/New_York:20260607T235959
DTSTAMP:20260422T192046
CREATED:20240225T002726Z
LAST-MODIFIED:20260211T155008Z
UID:117-1780704000-1780876799@alexandersbattalion.com
SUMMARY:Fort Pocahontas - "Longstreet's Corps Event"
DESCRIPTION:The Reenactment of “The Action at Wilson’s Wharf” to be held on the original grounds around the fort. Camping will be inside the original fort. \nLongstreet’s “Corps Event” – mandatory attendance; every effort must be made of Units and members to attend; Corps staff will be in attendance in full.\n 
URL:https://alexandersbattalion.com/event/fort-pocahontas-longstreets-sanctioned-event/
LOCATION:Fort Pocahontas\, 13150 Sturgeon Point Road\, Charles City\, VA\, 23030\, United States
END:VEVENT
BEGIN:VEVENT
DTSTART;TZID=America/New_York:20260515T000000
DTEND;TZID=America/New_York:20260517T235959
DTSTAMP:20260422T192046
CREATED:20260211T144110Z
LAST-MODIFIED:20260211T155035Z
UID:1190-1778803200-1779062399@alexandersbattalion.com
SUMMARY:First Manassas (Bull Run) @ Brandy Station - "Longstreet's Corps Event"
DESCRIPTION:Longstreet’s “Corps Event” – mandatory attendance; every effort must be made of Units and members to attend; Corps staff will be in attendance in full.
URL:https://alexandersbattalion.com/event/first-manassas-bull-run-brandy-station/
LOCATION:Brandy Station\, 13000 Saint James Church Rd.\, Brandy Station\, VA\, United States
END:VEVENT
BEGIN:VEVENT
DTSTART;TZID=America/New_York:20260424T000000
DTEND;TZID=America/New_York:20260426T235959
DTSTAMP:20260422T192046
CREATED:20260211T143129Z
LAST-MODIFIED:20260211T153030Z
UID:1187-1776988800-1777247999@alexandersbattalion.com
SUMMARY:Buchanan Civil War History Weekend
DESCRIPTION:The Town of Buchanan and the Botetourt Artillery Chapter of the Sons of Confederate Veterans are pleased to host the Annual Buchanan Civil War History Weekend.
URL:https://alexandersbattalion.com/event/buchanan/
LOCATION:Buchanan VA\, 509 Lowe St\, Buchanan\, 24066\, United States
END:VEVENT
BEGIN:VEVENT
DTSTART;TZID=America/New_York:20260313T000000
DTEND;TZID=America/New_York:20260315T235959
DTSTAMP:20260422T192046
CREATED:20260211T140748Z
LAST-MODIFIED:20260211T152733Z
UID:1182-1773360000-1773619199@alexandersbattalion.com
SUMMARY:School of the Soldier
DESCRIPTION:Hosted by the 12th Va\, Co. B
URL:https://alexandersbattalion.com/event/school-of-the-soldier/
LOCATION:Henrico\, VA\, 8558 Strath Road\, Henrico\, VA\, 23231\, United States
END:VEVENT
END:VCALENDAR