BEGIN:VCALENDAR
VERSION:2.0
PRODID:-//Alexander&#039;s Battalion - ECPv6.15.20//NONSGML v1.0//EN
CALSCALE:GREGORIAN
METHOD:PUBLISH
X-ORIGINAL-URL:https://alexandersbattalion.com
X-WR-CALDESC:Events for Alexander&#039;s Battalion
REFRESH-INTERVAL;VALUE=DURATION:PT1H
X-Robots-Tag:noindex
X-PUBLISHED-TTL:PT1H
BEGIN:VTIMEZONE
TZID:America/New_York
BEGIN:DAYLIGHT
TZOFFSETFROM:-0500
TZOFFSETTO:-0400
TZNAME:EDT
DTSTART:20250309T070000
END:DAYLIGHT
BEGIN:STANDARD
TZOFFSETFROM:-0400
TZOFFSETTO:-0500
TZNAME:EST
DTSTART:20251102T060000
END:STANDARD
BEGIN:DAYLIGHT
TZOFFSETFROM:-0500
TZOFFSETTO:-0400
TZNAME:EDT
DTSTART:20260308T070000
END:DAYLIGHT
BEGIN:STANDARD
TZOFFSETFROM:-0400
TZOFFSETTO:-0500
TZNAME:EST
DTSTART:20261101T060000
END:STANDARD
BEGIN:DAYLIGHT
TZOFFSETFROM:-0500
TZOFFSETTO:-0400
TZNAME:EDT
DTSTART:20270314T070000
END:DAYLIGHT
BEGIN:STANDARD
TZOFFSETFROM:-0400
TZOFFSETTO:-0500
TZNAME:EST
DTSTART:20271107T060000
END:STANDARD
END:VTIMEZONE
BEGIN:VEVENT
DTSTART;TZID=America/New_York:20260807T000000
DTEND;TZID=America/New_York:20260809T235959
DTSTAMP:20260422T174754
CREATED:20260211T150139Z
LAST-MODIFIED:20260211T154125Z
UID:1199-1786060800-1786319999@alexandersbattalion.com
SUMMARY:Hale Farm and Village Civil War Reenactment
DESCRIPTION:
URL:https://alexandersbattalion.com/event/hale-farm-and-village-civil-war-reenactment/
LOCATION:Hale Farm\, 2686 Oak Hill Raod\, Bath\, OH\, 44210\, United States
END:VEVENT
BEGIN:VEVENT
DTSTART;TZID=America/New_York:20261002T000000
DTEND;TZID=America/New_York:20261004T235959
DTSTAMP:20260422T174754
CREATED:20260211T150911Z
LAST-MODIFIED:20260211T154253Z
UID:1202-1790899200-1791158399@alexandersbattalion.com
SUMMARY:Jeb Stuart's Homeplace
DESCRIPTION:
URL:https://alexandersbattalion.com/event/jeb-stuarts-homeplace/
LOCATION:Stuart’s Homeplace\, 1091 Ararat Highway\, Arate\, VA\, 24053\, United States
END:VEVENT
BEGIN:VEVENT
DTSTART;TZID=America/New_York:20261016T000000
DTEND;TZID=America/New_York:20261018T235959
DTSTAMP:20260422T174754
CREATED:20240225T001722Z
LAST-MODIFIED:20260211T141221Z
UID:111-1792108800-1792367999@alexandersbattalion.com
SUMMARY:The Battle of Cedar Creek - "Longstreet's Corps Event"
DESCRIPTION:The Battle of Cedar Creek Reenactment to be held on original battlefield in Middletown\, Virginia \nLongstreet’s “Corps Event” – mandatory attendance; every effort must be made of Units and members to attend; Corps staff will be in attendance in full.\n  \n 
URL:https://alexandersbattalion.com/event/cedar-creek-longstreets-corps-event/
LOCATION:Cedar Creek Battlefield\, Middletown\, VA\, 8437 Valley Pike\, Meddletown\, VA\, 22645\, United States
END:VEVENT
BEGIN:VEVENT
DTSTART;TZID=America/New_York:20261107T000000
DTEND;TZID=America/New_York:20261108T235959
DTSTAMP:20260422T174754
CREATED:20250301T130317Z
LAST-MODIFIED:20260211T191803Z
UID:1152-1794009600-1794182399@alexandersbattalion.com
SUMMARY:Fort Branch
DESCRIPTION:Dates not confirmed
URL:https://alexandersbattalion.com/event/fort-branch/
LOCATION:Fort Branch\, Hamilton\, NC\, 27840\, United States
END:VEVENT
BEGIN:VEVENT
DTSTART;TZID=America/New_York:20261114T000000
DTEND;TZID=America/New_York:20261114T235959
DTSTAMP:20260422T174754
CREATED:20260211T151507Z
LAST-MODIFIED:20260211T151507Z
UID:1205-1794614400-1794700799@alexandersbattalion.com
SUMMARY:Remembrance Day Parade - Gettysburg
DESCRIPTION:
URL:https://alexandersbattalion.com/event/remembrance-day-parade-gettysburg/
LOCATION:Remembrance Day – Gettysburg\, 1195 Baltimore Pike\, Gettysburg\, PA\, United States
END:VEVENT
END:VCALENDAR