BEGIN:VCALENDAR
VERSION:2.0
PRODID:-//Alexander&#039;s Battalion - ECPv6.15.20//NONSGML v1.0//EN
CALSCALE:GREGORIAN
METHOD:PUBLISH
X-WR-CALNAME:Alexander&#039;s Battalion
X-ORIGINAL-URL:https://alexandersbattalion.com
X-WR-CALDESC:Events for Alexander&#039;s Battalion
REFRESH-INTERVAL;VALUE=DURATION:PT1H
X-Robots-Tag:noindex
X-PUBLISHED-TTL:PT1H
BEGIN:VTIMEZONE
TZID:America/New_York
BEGIN:DAYLIGHT
TZOFFSETFROM:-0500
TZOFFSETTO:-0400
TZNAME:EDT
DTSTART:20250309T070000
END:DAYLIGHT
BEGIN:STANDARD
TZOFFSETFROM:-0400
TZOFFSETTO:-0500
TZNAME:EST
DTSTART:20251102T060000
END:STANDARD
BEGIN:DAYLIGHT
TZOFFSETFROM:-0500
TZOFFSETTO:-0400
TZNAME:EDT
DTSTART:20260308T070000
END:DAYLIGHT
BEGIN:STANDARD
TZOFFSETFROM:-0400
TZOFFSETTO:-0500
TZNAME:EST
DTSTART:20261101T060000
END:STANDARD
BEGIN:DAYLIGHT
TZOFFSETFROM:-0500
TZOFFSETTO:-0400
TZNAME:EDT
DTSTART:20270314T070000
END:DAYLIGHT
BEGIN:STANDARD
TZOFFSETFROM:-0400
TZOFFSETTO:-0500
TZNAME:EST
DTSTART:20271107T060000
END:STANDARD
END:VTIMEZONE
BEGIN:VEVENT
DTSTART;TZID=America/New_York:20260703T000000
DTEND;TZID=America/New_York:20260705T235959
DTSTAMP:20260422T145808
CREATED:20260211T145017Z
LAST-MODIFIED:20260211T153836Z
UID:1193-1783036800-1783295999@alexandersbattalion.com
SUMMARY:Battle of Gettysburg @ Daniel Lady Farm
DESCRIPTION:
URL:https://alexandersbattalion.com/event/battle-of-gettysburg-daniel-lady-farm/
LOCATION:Daniel Lady Farm\, 1008 Hanover Rd.\, Gettysburg\, PA\, 17325\, United States
END:VEVENT
BEGIN:VEVENT
DTSTART;TZID=America/New_York:20260717T000000
DTEND;TZID=America/New_York:20260719T235959
DTSTAMP:20260422T145808
CREATED:20260211T145629Z
LAST-MODIFIED:20260211T154027Z
UID:1196-1784246400-1784505599@alexandersbattalion.com
SUMMARY:Battle of Funkstown
DESCRIPTION:
URL:https://alexandersbattalion.com/event/battle-of-funkstown/
LOCATION:Funkstown\, 2 South Westside Ave.\, Funkstown\, MD\, 21734\, United States
END:VEVENT
END:VCALENDAR